BEGIN:VCALENDAR
VERSION:2.0
PRODID:-//Muziekcaf&eacute; de Hommel - ECPv6.8.2.1//NONSGML v1.0//EN
CALSCALE:GREGORIAN
METHOD:PUBLISH
X-ORIGINAL-URL:https://cafedehommel.nl
X-WR-CALDESC:Evenementen voor Muziekcaf&eacute; de Hommel
REFRESH-INTERVAL;VALUE=DURATION:PT1H
X-Robots-Tag:noindex
X-PUBLISHED-TTL:PT1H
BEGIN:VTIMEZONE
TZID:Europe/Amsterdam
BEGIN:DAYLIGHT
TZOFFSETFROM:+0100
TZOFFSETTO:+0200
TZNAME:CEST
DTSTART:20250330T010000
END:DAYLIGHT
BEGIN:STANDARD
TZOFFSETFROM:+0200
TZOFFSETTO:+0100
TZNAME:CET
DTSTART:20251026T010000
END:STANDARD
END:VTIMEZONE
BEGIN:VEVENT
DTSTART;TZID=Europe/Amsterdam:20250601T150000
DTEND;TZID=Europe/Amsterdam:20250601T150000
DTSTAMP:20260421T133952
CREATED:20250317T131337Z
LAST-MODIFIED:20250317T131337Z
UID:7307-1748790000-1748790000@cafedehommel.nl
SUMMARY:BLUES JAMSESSIE
DESCRIPTION:Elke 1e zondag van de maand is er een Blues Jamsessie in de Hommel. Uiteraard zijn hierbij zowel de muzikant als de luisteraar van harte welkom.
URL:https://cafedehommel.nl/event/blues-jamsessie-51/
ATTACH;FMTTYPE=image/jpeg:https://cafedehommel.nl/wp-content/uploads/2024/08/photo_editor_1538388169213.jpg
END:VEVENT
BEGIN:VEVENT
DTSTART;TZID=Europe/Amsterdam:20250607T210000
DTEND;TZID=Europe/Amsterdam:20250607T210000
DTSTAMP:20260421T133952
CREATED:20250317T133427Z
LAST-MODIFIED:20250317T133427Z
UID:7313-1749330000-1749330000@cafedehommel.nl
SUMMARY:REMEMBER TORONTO
DESCRIPTION:Deze coverband laat ons van vele pop en rock klassiekers genieten. Dus dat wordt een feest van herkenning.
URL:https://cafedehommel.nl/event/remember-toronto-4/
END:VEVENT
BEGIN:VEVENT
DTSTART;TZID=Europe/Amsterdam:20250612T200000
DTEND;TZID=Europe/Amsterdam:20250612T200000
DTSTAMP:20260421T133952
CREATED:20250317T131658Z
LAST-MODIFIED:20250317T131658Z
UID:7309-1749758400-1749758400@cafedehommel.nl
SUMMARY:FOLKSESSIE
DESCRIPTION:Elke 2e en 4e donderdag van de maand is er een Folksessie in de Hommel. Iedereen is van harte welkom zowel de muzikant als de luisteraar
URL:https://cafedehommel.nl/event/folksessie-102/
ATTACH;FMTTYPE=image/jpeg:https://cafedehommel.nl/wp-content/uploads/2024/08/20220413_134754.jpg
END:VEVENT
BEGIN:VEVENT
DTSTART;TZID=Europe/Amsterdam:20250613T210000
DTEND;TZID=Europe/Amsterdam:20250613T210000
DTSTAMP:20260421T133952
CREATED:20250608T160517Z
LAST-MODIFIED:20250608T160517Z
UID:7555-1749848400-1749848400@cafedehommel.nl
SUMMARY:FIREBIRD
DESCRIPTION:Een blues-rock coverband uit Zuid Holland. Deze 5 koppige band speelt diverse covers van o.a. Queen\, Pink\, David Bowie en Metallica\, enz. Dus voor ieder wat wils.
URL:https://cafedehommel.nl/event/firebird-2/
ATTACH;FMTTYPE=image/jpeg:https://cafedehommel.nl/wp-content/uploads/2025/06/Polish_20250608_174748656-scaled.jpg
END:VEVENT
BEGIN:VEVENT
DTSTART;TZID=Europe/Amsterdam:20250614T210000
DTEND;TZID=Europe/Amsterdam:20250614T210000
DTSTAMP:20260421T133952
CREATED:20250317T135027Z
LAST-MODIFIED:20250317T135027Z
UID:7316-1749934800-1749934800@cafedehommel.nl
SUMMARY:REBEL GAZ
DESCRIPTION:Deze uit 4 ervaren en enthousiaste muzikanten bestaande band speelt een mix van (hard) rock en (heavy) blues-rock covers. Zowel de bekende als de minder bekende nummers komen aan bod. Kortom een gezellige avond waarbij je niet stil kunt blijven zitten/staan.
URL:https://cafedehommel.nl/event/rebel-gaz/
ATTACH;FMTTYPE=image/jpeg:https://cafedehommel.nl/wp-content/uploads/2025/03/Polish_20250317_144227424.jpg
END:VEVENT
BEGIN:VEVENT
DTSTART;TZID=Europe/Amsterdam:20250621T210000
DTEND;TZID=Europe/Amsterdam:20250621T210000
DTSTAMP:20260421T133952
CREATED:20250317T140145Z
LAST-MODIFIED:20250317T140145Z
UID:7320-1750539600-1750539600@cafedehommel.nl
SUMMARY:STEAMER
DESCRIPTION:Iconische rock wordt genadeloos op je afgevuurd door deze coverband. Van de classics uit de 70’s tot de rockers van vandaag. Zowel Nederlandstalig als Engelstalig. Wat ze ook spelen de mannen staan 100% aan.
URL:https://cafedehommel.nl/event/steamer-2/
ATTACH;FMTTYPE=image/jpeg:https://cafedehommel.nl/wp-content/uploads/2025/03/Polish_20250317_145550338.jpg
END:VEVENT
BEGIN:VEVENT
DTSTART;TZID=Europe/Amsterdam:20250626T200000
DTEND;TZID=Europe/Amsterdam:20250626T200000
DTSTAMP:20260421T133952
CREATED:20250317T131930Z
LAST-MODIFIED:20250317T131930Z
UID:7311-1750968000-1750968000@cafedehommel.nl
SUMMARY:FOLKSESSIE
DESCRIPTION:Elke 2e en 4e donderdag van de maand is er een Folksessie in de Hommel. Iedereen is hierbij van harte welkom zowel de muzikant als de luisteraar.
URL:https://cafedehommel.nl/event/folksessie-103/
ATTACH;FMTTYPE=image/jpeg:https://cafedehommel.nl/wp-content/uploads/2024/05/CurveText-1579632598189-1.jpg
END:VEVENT
BEGIN:VEVENT
DTSTART;TZID=Europe/Amsterdam:20250627T210000
DTEND;TZID=Europe/Amsterdam:20250627T210000
DTSTAMP:20260421T133952
CREATED:20250623T115938Z
LAST-MODIFIED:20250623T115938Z
UID:7606-1751058000-1751058000@cafedehommel.nl
SUMMARY:V-RAVEN\, YENS en RIENKO BOEIJE
DESCRIPTION:Kom van een singer-songwriter-avond genieten met V-Raven\, YENS & Rienko Boeije live \n 
URL:https://cafedehommel.nl/event/v-raven-yens-en-rienko-boeije/
ATTACH;FMTTYPE=image/jpeg:https://cafedehommel.nl/wp-content/uploads/2025/06/Polish_20250623_135647065-scaled.jpg
END:VEVENT
BEGIN:VEVENT
DTSTART;TZID=Europe/Amsterdam:20250628T210000
DTEND;TZID=Europe/Amsterdam:20250628T210000
DTSTAMP:20260421T133952
CREATED:20250616T225744Z
LAST-MODIFIED:20250616T225744Z
UID:7602-1751144400-1751144400@cafedehommel.nl
SUMMARY:ONGELEGEN
DESCRIPTION:De band Ongelegen speelt nu sinds 2 jaar samen  (Joris\, Eveline\, Ida en Eva). en komt uit Rotterdam. De jonge muzikanten spelen een divers genre\, van pop tot rock en alles ertussenin.. een mix van oudere en nieuwere muziek. Ze hebben met elkaar het bandje als hobby gevormd en zijn nu klaar voor hun eerste optreden!
URL:https://cafedehommel.nl/event/ongelegen/
ATTACH;FMTTYPE=image/jpeg:https://cafedehommel.nl/wp-content/uploads/2025/06/IMG-20250617-WA0000.jpg
END:VEVENT
END:VCALENDAR