BEGIN:VCALENDAR
VERSION:2.0
PRODID:-//Muziekcaf&eacute; de Hommel - ECPv6.8.2.1//NONSGML v1.0//EN
CALSCALE:GREGORIAN
METHOD:PUBLISH
X-ORIGINAL-URL:https://cafedehommel.nl
X-WR-CALDESC:Evenementen voor Muziekcaf&eacute; de Hommel
REFRESH-INTERVAL;VALUE=DURATION:PT1H
X-Robots-Tag:noindex
X-PUBLISHED-TTL:PT1H
BEGIN:VTIMEZONE
TZID:Europe/Amsterdam
BEGIN:DAYLIGHT
TZOFFSETFROM:+0100
TZOFFSETTO:+0200
TZNAME:CEST
DTSTART:20240331T010000
END:DAYLIGHT
BEGIN:STANDARD
TZOFFSETFROM:+0200
TZOFFSETTO:+0100
TZNAME:CET
DTSTART:20241027T010000
END:STANDARD
END:VTIMEZONE
BEGIN:VEVENT
DTSTART;VALUE=DATE:20240405
DTEND;VALUE=DATE:20240406
DTSTAMP:20260419T222806
CREATED:20240228T143720Z
LAST-MODIFIED:20240228T143720Z
UID:5544-1712275200-1712361599@cafedehommel.nl
SUMMARY:Besloten Feest
DESCRIPTION:
URL:https://cafedehommel.nl/event/besloten-feest-55/
END:VEVENT
BEGIN:VEVENT
DTSTART;TZID=Europe/Amsterdam:20240406T210000
DTEND;TZID=Europe/Amsterdam:20240406T210000
DTSTAMP:20260419T222806
CREATED:20240311T144244Z
LAST-MODIFIED:20240311T144244Z
UID:5581-1712437200-1712437200@cafedehommel.nl
SUMMARY:CELEBR80'S
DESCRIPTION:Deze 8 koppige band brengt de muzikale sfeer van de 80’s weer helemaal tot leven en laat iedereen meezingen en dansen met het gekozen repertoire.
URL:https://cafedehommel.nl/event/celebr80s/
ATTACH;FMTTYPE=image/jpeg:https://cafedehommel.nl/wp-content/uploads/2024/03/2024-03-11-02-23-23-833.jpg
END:VEVENT
BEGIN:VEVENT
DTSTART;TZID=Europe/Amsterdam:20240407T150000
DTEND;TZID=Europe/Amsterdam:20240407T150000
DTSTAMP:20260419T222806
CREATED:20240228T144509Z
LAST-MODIFIED:20240228T144509Z
UID:5546-1712502000-1712502000@cafedehommel.nl
SUMMARY:BLUES JAMSESSIES
DESCRIPTION:Elke 1e  zondag van de maand is er een Blues Jamsessie in de Hommel. Iedereen is van harte welkom zowel de muzikant als de luisteraar
URL:https://cafedehommel.nl/event/blues-jamsessies/
END:VEVENT
BEGIN:VEVENT
DTSTART;TZID=Europe/Amsterdam:20240411T200000
DTEND;TZID=Europe/Amsterdam:20240411T200000
DTSTAMP:20260419T222806
CREATED:20240228T144802Z
LAST-MODIFIED:20240228T144802Z
UID:5548-1712865600-1712865600@cafedehommel.nl
SUMMARY:FOLKSESSIE
DESCRIPTION:Elke 2e en 4e donderdag van de maand is er een Folksessie in de Hommel. Iedereen is van harte welkom zowel de muzikant als de luisteraar.
URL:https://cafedehommel.nl/event/folksessie-79/
END:VEVENT
BEGIN:VEVENT
DTSTART;VALUE=DATE:20240412
DTEND;VALUE=DATE:20240413
DTSTAMP:20260419T222806
CREATED:20240228T145232Z
LAST-MODIFIED:20240228T145232Z
UID:5552-1712880000-1712966399@cafedehommel.nl
SUMMARY:Besloten Feest
DESCRIPTION:
URL:https://cafedehommel.nl/event/besloten-feest-56/
END:VEVENT
BEGIN:VEVENT
DTSTART;TZID=Europe/Amsterdam:20240413T210000
DTEND;TZID=Europe/Amsterdam:20240413T210000
DTSTAMP:20260419T222806
CREATED:20240401T110614Z
LAST-MODIFIED:20240401T110614Z
UID:5636-1713042000-1713042000@cafedehommel.nl
SUMMARY:RON MEERHOF&FRIENDS
DESCRIPTION:Ron Meerhof and friends laten ons de hele avond genieten van hun plezier in het samen musiceren.  Dit gecombineerd met hun muzikale talenten wordt het een feest.
URL:https://cafedehommel.nl/event/ron-meerhoffriends/
END:VEVENT
BEGIN:VEVENT
DTSTART;VALUE=DATE:20240419
DTEND;VALUE=DATE:20240420
DTSTAMP:20260419T222806
CREATED:20240228T145412Z
LAST-MODIFIED:20240228T145412Z
UID:5554-1713484800-1713571199@cafedehommel.nl
SUMMARY:Besloten Feest
DESCRIPTION:
URL:https://cafedehommel.nl/event/besloten-feest-57/
END:VEVENT
BEGIN:VEVENT
DTSTART;TZID=Europe/Amsterdam:20240421T150000
DTEND;TZID=Europe/Amsterdam:20240421T150000
DTSTAMP:20260419T222806
CREATED:20240319T235452Z
LAST-MODIFIED:20240319T235452Z
UID:5613-1713711600-1713711600@cafedehommel.nl
SUMMARY:DE VASTE MANNEN
DESCRIPTION:De Vaste Mannen is een groep van 8 muzikanten die opgericht is als Shanty groep. Inmiddels bestaat hun repertoire van ongeveer 150 nummers naast de shanty’s ook uit country nummers en evergreens. Als dat geen heerlijke middag wordt
URL:https://cafedehommel.nl/event/de-vaste-mannen/
END:VEVENT
BEGIN:VEVENT
DTSTART;TZID=Europe/Amsterdam:20240425T200000
DTEND;TZID=Europe/Amsterdam:20240425T200000
DTSTAMP:20260419T222806
CREATED:20240228T144958Z
LAST-MODIFIED:20240411T161652Z
UID:5550-1714075200-1714075200@cafedehommel.nl
SUMMARY:SPECIALE FOLKSESSIE met JUN
DESCRIPTION:Een speciale Folksessie dit keer. Een ierse avond met de bekende vlaardingse familiegroep Jun. Zij zingen songs\, geïnspireerd door de keltische muziek en daarnaast natuurlijk ook diverse bekende en onbekende ierse songs.
URL:https://cafedehommel.nl/event/folksessie-80/
ATTACH;FMTTYPE=image/jpeg:https://cafedehommel.nl/wp-content/uploads/2024/02/Polish_20240411_174949836.jpg
END:VEVENT
END:VCALENDAR