BEGIN:VCALENDAR
VERSION:2.0
PRODID:-//Muziekcaf&eacute; de Hommel - ECPv6.8.2.1//NONSGML v1.0//EN
CALSCALE:GREGORIAN
METHOD:PUBLISH
X-WR-CALNAME:Muziekcaf&eacute; de Hommel
X-ORIGINAL-URL:https://cafedehommel.nl
X-WR-CALDESC:Evenementen voor Muziekcaf&eacute; de Hommel
REFRESH-INTERVAL;VALUE=DURATION:PT1H
X-Robots-Tag:noindex
X-PUBLISHED-TTL:PT1H
BEGIN:VTIMEZONE
TZID:Europe/Amsterdam
BEGIN:DAYLIGHT
TZOFFSETFROM:+0100
TZOFFSETTO:+0200
TZNAME:CEST
DTSTART:20230326T010000
END:DAYLIGHT
BEGIN:STANDARD
TZOFFSETFROM:+0200
TZOFFSETTO:+0100
TZNAME:CET
DTSTART:20231029T010000
END:STANDARD
END:VTIMEZONE
BEGIN:VEVENT
DTSTART;TZID=Europe/Amsterdam:20230901T210000
DTEND;TZID=Europe/Amsterdam:20230901T210000
DTSTAMP:20260421T200636
CREATED:20230803T194643Z
LAST-MODIFIED:20230803T194643Z
UID:4648-1693602000-1693602000@cafedehommel.nl
SUMMARY:STELLAR JUICE
DESCRIPTION:De roots van deze band liggen tussen Rotterdam en Dordrecht. Zij spelen eigen muziek en de stijl is funky folkrock. Denk hierbij aan Jethro Tull\, Supersister  Pink Floyd en Zappa.
URL:https://cafedehommel.nl/event/stellar-juice-2/
END:VEVENT
BEGIN:VEVENT
DTSTART;TZID=Europe/Amsterdam:20230902T210000
DTEND;TZID=Europe/Amsterdam:20230902T210000
DTSTAMP:20260421T200636
CREATED:20230803T195746Z
LAST-MODIFIED:20230803T195746Z
UID:4652-1693688400-1693688400@cafedehommel.nl
SUMMARY:GrooveGig
DESCRIPTION:GrooveGig is een coverband die bestaat uit gepassioneerde muzikanten. Zij brengen ons een heerlijke avond vol van gezelligheid met veel bekende nummers.
URL:https://cafedehommel.nl/event/groovegig/
END:VEVENT
BEGIN:VEVENT
DTSTART;TZID=Europe/Amsterdam:20230903T150000
DTEND;TZID=Europe/Amsterdam:20230903T150000
DTSTAMP:20260421T200636
CREATED:20230803T192913Z
LAST-MODIFIED:20230803T192913Z
UID:4645-1693753200-1693753200@cafedehommel.nl
SUMMARY:BLUES JAMSESSIE
DESCRIPTION:Iedere 1e zondag van de maand is er een Blues Jamsessie in de Hommel. Iedereen is van harte welkom zowel de muzikant als de luisteraar.
URL:https://cafedehommel.nl/event/blues-jamsessie-33/
END:VEVENT
BEGIN:VEVENT
DTSTART;VALUE=DATE:20230908
DTEND;VALUE=DATE:20230909
DTSTAMP:20260421T200636
CREATED:20230803T200012Z
LAST-MODIFIED:20230803T200012Z
UID:4656-1694131200-1694217599@cafedehommel.nl
SUMMARY:BESLOTEN FEEST
DESCRIPTION:
URL:https://cafedehommel.nl/event/besloten-feest-42/
END:VEVENT
BEGIN:VEVENT
DTSTART;TZID=Europe/Amsterdam:20230909T210000
DTEND;TZID=Europe/Amsterdam:20230909T210000
DTSTAMP:20260421T200636
CREATED:20230901T122517Z
LAST-MODIFIED:20230901T122517Z
UID:4776-1694293200-1694293200@cafedehommel.nl
SUMMARY:PORTLAND RIDER
DESCRIPTION:PORTLAND RIDER is een band uit de regio Rotterdam\, Den Haag.  De 4 koppige band speelt eigen nummers vnl. in Rock\, Indie en Alternative Pop stijl.  Zij hebben inmiddels al veel lovende kritieken mogen ontvangen.
URL:https://cafedehommel.nl/event/portland-rider/
END:VEVENT
BEGIN:VEVENT
DTSTART;TZID=Europe/Amsterdam:20230914T200000
DTEND;TZID=Europe/Amsterdam:20230914T200000
DTSTAMP:20260421T200636
CREATED:20230803T200320Z
LAST-MODIFIED:20230803T200320Z
UID:4658-1694721600-1694721600@cafedehommel.nl
SUMMARY:FOLKSESSIE
DESCRIPTION:Iedere 2e en 4e donderdag van de maand is er een Folksessie in de Hommel. Iedereen is van harte welkom zowel de muzikant als de luisteraar.
URL:https://cafedehommel.nl/event/folksessie-65/
END:VEVENT
BEGIN:VEVENT
DTSTART;TZID=Europe/Amsterdam:20230915T210000
DTEND;TZID=Europe/Amsterdam:20230915T210000
DTSTAMP:20260421T200636
CREATED:20230803T201325Z
LAST-MODIFIED:20230830T201052Z
UID:4660-1694811600-1694811600@cafedehommel.nl
SUMMARY:EMILY AND THE YOUNG ONES
DESCRIPTION:Emily &The Young Ones spelen eigen rock/bluesnummers en covers van de 60’s t/m nu.
URL:https://cafedehommel.nl/event/emmely-and-the-young-ones/
END:VEVENT
BEGIN:VEVENT
DTSTART;TZID=Europe/Amsterdam:20230916T210000
DTEND;TZID=Europe/Amsterdam:20230916T210000
DTSTAMP:20260421T200636
CREATED:20230830T200934Z
LAST-MODIFIED:20230830T223641Z
UID:4770-1694898000-1694898000@cafedehommel.nl
SUMMARY:AFTER EIGHT
DESCRIPTION:         AFTER EIGHT is een Indie poprock band uit Zuid Holland die eigen energieke en dansbare nummers speelt
URL:https://cafedehommel.nl/event/after-eight/
END:VEVENT
BEGIN:VEVENT
DTSTART;TZID=Europe/Amsterdam:20230923T210000
DTEND;TZID=Europe/Amsterdam:20230923T210000
DTSTAMP:20260421T200636
CREATED:20230805T141646Z
LAST-MODIFIED:20230805T141646Z
UID:4664-1695502800-1695502800@cafedehommel.nl
SUMMARY:BREED
DESCRIPTION:Breed is een pop/rock coverband uit Vlaardingen. Zij spelen covers uit 80’s en 90’s met hier en daar een uitschieter naar de 70’s en zelfs de 60’s
URL:https://cafedehommel.nl/event/breed/
END:VEVENT
BEGIN:VEVENT
DTSTART;TZID=Europe/Amsterdam:20230924T110000
DTEND;TZID=Europe/Amsterdam:20230924T180000
DTSTAMP:20260421T200636
CREATED:20230805T143836Z
LAST-MODIFIED:20230805T143836Z
UID:4673-1695553200-1695578400@cafedehommel.nl
SUMMARY:DIDGE CAFÉ
DESCRIPTION:Na de vakantie weer terug van weggeweest. Didge Café.  Om de 2 maanden is er iedere laatste zondag van de maand Didge Café in de Hommel. Iedereen die geïnteresseerd is in dit bijzondere Aboriginal instrument\, is van harte welkom om te luisteren of misschien om mee te spelen.
URL:https://cafedehommel.nl/event/didge-cafe-18/
END:VEVENT
BEGIN:VEVENT
DTSTART;TZID=Europe/Amsterdam:20230928T200000
DTEND;TZID=Europe/Amsterdam:20230928T200000
DTSTAMP:20260421T200636
CREATED:20230805T144055Z
LAST-MODIFIED:20230805T144055Z
UID:4675-1695931200-1695931200@cafedehommel.nl
SUMMARY:FOLKSESSIE
DESCRIPTION:Iedere 2e en 4e donderdag van de maand is er een Folksessie in de Hommel. Iedereen is van harte welkom zowel de muzikant als de luisteraar.
URL:https://cafedehommel.nl/event/folksessie-66/
END:VEVENT
BEGIN:VEVENT
DTSTART;TZID=Europe/Amsterdam:20230929T210000
DTEND;TZID=Europe/Amsterdam:20230929T210000
DTSTAMP:20260421T200636
CREATED:20230805T152824Z
LAST-MODIFIED:20230805T152824Z
UID:4682-1696021200-1696021200@cafedehommel.nl
SUMMARY:MELOJUSTICE
DESCRIPTION:De band speelt eigen werk. En zoals zij zelf zeggen: Melojustice is 4 guys with 1 goal. Playing music since it just feels right to rock on till the end of time.
URL:https://cafedehommel.nl/event/melojustice/
END:VEVENT
BEGIN:VEVENT
DTSTART;TZID=Europe/Amsterdam:20230930T210000
DTEND;TZID=Europe/Amsterdam:20230930T210000
DTSTAMP:20260421T200636
CREATED:20230829T233248Z
LAST-MODIFIED:20230829T233248Z
UID:4762-1696107600-1696107600@cafedehommel.nl
SUMMARY:KAJAL
DESCRIPTION:Deze 5 koppige band speelt een gevarieerde mix van downtempo\, triphop\, alternative rock en pop.  Veelal eigen werk met hier en daar een cover. Dit alles met als uitgangspunt het publiek te laten genieten.
URL:https://cafedehommel.nl/event/kajal/
END:VEVENT
END:VCALENDAR