BEGIN:VCALENDAR
VERSION:2.0
PRODID:-//Muziekcaf&eacute; de Hommel - ECPv6.8.2.1//NONSGML v1.0//EN
CALSCALE:GREGORIAN
METHOD:PUBLISH
X-WR-CALNAME:Muziekcaf&eacute; de Hommel
X-ORIGINAL-URL:https://cafedehommel.nl
X-WR-CALDESC:Evenementen voor Muziekcaf&eacute; de Hommel
REFRESH-INTERVAL;VALUE=DURATION:PT1H
X-Robots-Tag:noindex
X-PUBLISHED-TTL:PT1H
BEGIN:VTIMEZONE
TZID:Europe/Amsterdam
BEGIN:DAYLIGHT
TZOFFSETFROM:+0100
TZOFFSETTO:+0200
TZNAME:CEST
DTSTART:20230326T010000
END:DAYLIGHT
BEGIN:STANDARD
TZOFFSETFROM:+0200
TZOFFSETTO:+0100
TZNAME:CET
DTSTART:20231029T010000
END:STANDARD
END:VTIMEZONE
BEGIN:VEVENT
DTSTART;TZID=Europe/Amsterdam:20230805T220000
DTEND;TZID=Europe/Amsterdam:20230805T220000
DTSTAMP:20260421T214128
CREATED:20230803T180935Z
LAST-MODIFIED:20230803T180935Z
UID:4620-1691272800-1691272800@cafedehommel.nl
SUMMARY:AFTERPARTY ZOMERTERRAS  met wie anders dan LEO IJDO
DESCRIPTION:Traditiegetrouw is er dé Zomerterras Afterparty met niemand minder dan Leo Ijdo in de Hommel
URL:https://cafedehommel.nl/event/afterparty-zomerterras-met-wie-anders-dan-leo-ijdo/
END:VEVENT
BEGIN:VEVENT
DTSTART;TZID=Europe/Amsterdam:20230806T150000
DTEND;TZID=Europe/Amsterdam:20230806T150000
DTSTAMP:20260421T214128
CREATED:20230803T184712Z
LAST-MODIFIED:20230803T184712Z
UID:4625-1691334000-1691334000@cafedehommel.nl
SUMMARY:BLUES JAMSESSIE
DESCRIPTION:Iedere 1e zondag van de maand is er een Blues Jamsessie in de Hommel. Iedereen is welkom zowel de muzikant als de luisteraar.
URL:https://cafedehommel.nl/event/blues-jamsessie-32/
END:VEVENT
BEGIN:VEVENT
DTSTART;TZID=Europe/Amsterdam:20230810T200000
DTEND;TZID=Europe/Amsterdam:20230810T200000
DTSTAMP:20260421T214128
CREATED:20230803T184950Z
LAST-MODIFIED:20230803T184950Z
UID:4627-1691697600-1691697600@cafedehommel.nl
SUMMARY:FOLKSESSIE
DESCRIPTION:
URL:https://cafedehommel.nl/event/folksessie-63/
END:VEVENT
BEGIN:VEVENT
DTSTART;TZID=Europe/Amsterdam:20230811T210000
DTEND;TZID=Europe/Amsterdam:20230811T210000
DTSTAMP:20260421T214128
CREATED:20230803T185655Z
LAST-MODIFIED:20230803T185655Z
UID:4629-1691787600-1691787600@cafedehommel.nl
SUMMARY:GOOD COMPANY
DESCRIPTION:Deze coverband speelt een grote variatie aan bekende songs van diverse artiesten uit de tijd die voor ons ligt tot nu. De stijlen zijn blues\, rock\, funk en pop. \n 
URL:https://cafedehommel.nl/event/good-company-5/
END:VEVENT
BEGIN:VEVENT
DTSTART;TZID=Europe/Amsterdam:20230812T220000
DTEND;TZID=Europe/Amsterdam:20230812T220000
DTSTAMP:20260421T214128
CREATED:20230803T190227Z
LAST-MODIFIED:20230803T190227Z
UID:4633-1691877600-1691877600@cafedehommel.nl
SUMMARY:LEO'S AFTERPARTY
DESCRIPTION:Traditie getrouw is er Leo’s zomerterras afterparty in de Hommel
URL:https://cafedehommel.nl/event/leos-afterparty/
END:VEVENT
BEGIN:VEVENT
DTSTART;TZID=Europe/Amsterdam:20230818T210000
DTEND;TZID=Europe/Amsterdam:20230818T210000
DTSTAMP:20260421T214128
CREATED:20230817T114349Z
LAST-MODIFIED:20230817T114349Z
UID:4718-1692392400-1692392400@cafedehommel.nl
SUMMARY:KWARTET DE ROMATIEK
DESCRIPTION:Dit kwartet speelt veelkleurige zigeunermuziek uit verschillende landen en culturen. Dit doen zij met de viool\, gitaren en contrabas. Kortom een avond met passie.
URL:https://cafedehommel.nl/event/kwartet-de-romatiek/
END:VEVENT
BEGIN:VEVENT
DTSTART;TZID=Europe/Amsterdam:20230819T220000
DTEND;TZID=Europe/Amsterdam:20230819T220000
DTSTAMP:20260421T214128
CREATED:20230803T190715Z
LAST-MODIFIED:20230803T190715Z
UID:4635-1692482400-1692482400@cafedehommel.nl
SUMMARY:LEO'S AFTERPARTY ZOMERTERRAS
DESCRIPTION:De laatste Zomerterras afterparty van Leo Ijdo in de Hommel
URL:https://cafedehommel.nl/event/leos-afterparty-zomerterras/
END:VEVENT
BEGIN:VEVENT
DTSTART;TZID=Europe/Amsterdam:20230824T200000
DTEND;TZID=Europe/Amsterdam:20230824T200000
DTSTAMP:20260421T214128
CREATED:20230803T191017Z
LAST-MODIFIED:20230803T191017Z
UID:4638-1692907200-1692907200@cafedehommel.nl
SUMMARY:FOLKSESSIE
DESCRIPTION:Iedere 2e en 4e donderdag van de maand is er een Folksessie in de Hommel. Iedereen is van harte welkom zowel de muzikant als de luisteraar.
URL:https://cafedehommel.nl/event/folksessie-64/
END:VEVENT
BEGIN:VEVENT
DTSTART;VALUE=DATE:20230825
DTEND;VALUE=DATE:20230826
DTSTAMP:20260421T214128
CREATED:20230803T191306Z
LAST-MODIFIED:20230803T191306Z
UID:4640-1692921600-1693007999@cafedehommel.nl
SUMMARY:BESLOTEN FEEST
DESCRIPTION:
URL:https://cafedehommel.nl/event/besloten-feest-40/
END:VEVENT
BEGIN:VEVENT
DTSTART;TZID=Europe/Amsterdam:20230826T210000
DTEND;TZID=Europe/Amsterdam:20230826T210000
DTSTAMP:20260421T214128
CREATED:20230803T192514Z
LAST-MODIFIED:20230803T192514Z
UID:4642-1693083600-1693083600@cafedehommel.nl
SUMMARY:RON MEERHOF and FRIENDS
DESCRIPTION:Ron Meerhof and friends laten ons de hele avond genieten van hun plezier in het samen musiceren.  Dit gecombineerd met hun muzikale talenten wordt het een feest.
URL:https://cafedehommel.nl/event/ron-meerhof-and-friends/
END:VEVENT
END:VCALENDAR