BEGIN:VCALENDAR
VERSION:2.0
PRODID:-//Muziekcaf&eacute; de Hommel - ECPv6.8.2.1//NONSGML v1.0//EN
CALSCALE:GREGORIAN
METHOD:PUBLISH
X-WR-CALNAME:Muziekcaf&eacute; de Hommel
X-ORIGINAL-URL:https://cafedehommel.nl
X-WR-CALDESC:Evenementen voor Muziekcaf&eacute; de Hommel
REFRESH-INTERVAL;VALUE=DURATION:PT1H
X-Robots-Tag:noindex
X-PUBLISHED-TTL:PT1H
BEGIN:VTIMEZONE
TZID:Europe/Amsterdam
BEGIN:DAYLIGHT
TZOFFSETFROM:+0100
TZOFFSETTO:+0200
TZNAME:CEST
DTSTART:20230326T010000
END:DAYLIGHT
BEGIN:STANDARD
TZOFFSETFROM:+0200
TZOFFSETTO:+0100
TZNAME:CET
DTSTART:20231029T010000
END:STANDARD
END:VTIMEZONE
BEGIN:VEVENT
DTSTART;TZID=Europe/Amsterdam:20230602T210000
DTEND;TZID=Europe/Amsterdam:20230602T210000
DTSTAMP:20260422T023358
CREATED:20230525T004018Z
LAST-MODIFIED:20230525T004018Z
UID:4430-1685739600-1685739600@cafedehommel.nl
SUMMARY:HARD ACT TO FOLLOW
DESCRIPTION:HARD ACT TO FOLLOW is een 4 koppige Blues en Pubrock band. De band speelt de bekende maar ook wat minder bekende covers.  Zowel de nederlands- als engelstalige nummers.
URL:https://cafedehommel.nl/event/hard-act-to-follow-5/
END:VEVENT
BEGIN:VEVENT
DTSTART;TZID=Europe/Amsterdam:20230603T210000
DTEND;TZID=Europe/Amsterdam:20230603T210000
DTSTAMP:20260422T023358
CREATED:20230330T183640Z
LAST-MODIFIED:20230330T183640Z
UID:4256-1685826000-1685826000@cafedehommel.nl
SUMMARY:THORNROSE
DESCRIPTION:Thornrose is een coverband die bestaat uit goede muzikanten en een top zangeres.
URL:https://cafedehommel.nl/event/thornrose-5/
END:VEVENT
BEGIN:VEVENT
DTSTART;TZID=Europe/Amsterdam:20230604T150000
DTEND;TZID=Europe/Amsterdam:20230604T193000
DTSTAMP:20260422T023358
CREATED:20230530T141442Z
LAST-MODIFIED:20230530T141442Z
UID:4461-1685890800-1685907000@cafedehommel.nl
SUMMARY:BLUES JAMSESSIE  04-06-23
DESCRIPTION:Iedere 1e zondag van de maand is er een Blues Jamsessie in de Hommel. Iedereen is van harte welkom zowel de muzikant als de luisteraar
URL:https://cafedehommel.nl/event/blues-jamsessie-04-06-23/
END:VEVENT
BEGIN:VEVENT
DTSTART;TZID=Europe/Amsterdam:20230608T200000
DTEND;TZID=Europe/Amsterdam:20230608T200000
DTSTAMP:20260422T023358
CREATED:20230530T141728Z
LAST-MODIFIED:20230530T141728Z
UID:4463-1686254400-1686254400@cafedehommel.nl
SUMMARY:FOLKSESSIE
DESCRIPTION:Iedere 2e en 4e donderdag van de maand is er een Folksessie in de Hommel. Iedereen is van harte welkom zowel de muzikanten als de luisteraars
URL:https://cafedehommel.nl/event/folksessie-59/
END:VEVENT
BEGIN:VEVENT
DTSTART;TZID=Europe/Amsterdam:20230609T210000
DTEND;TZID=Europe/Amsterdam:20230609T210000
DTSTAMP:20260422T023358
CREATED:20230330T184739Z
LAST-MODIFIED:20230330T184739Z
UID:4261-1686344400-1686344400@cafedehommel.nl
SUMMARY:SJARM
DESCRIPTION:SJARM is een 5 koppige band die composities uit diverse landen speelt\, zoals Portugal\, Griekenland\, Arabië. Maar ook eigen werk en Jiddishe muziek.
URL:https://cafedehommel.nl/event/sjarm/
END:VEVENT
BEGIN:VEVENT
DTSTART;VALUE=DATE:20230610
DTEND;VALUE=DATE:20230611
DTSTAMP:20260422T023358
CREATED:20230330T184915Z
LAST-MODIFIED:20230330T184915Z
UID:4264-1686355200-1686441599@cafedehommel.nl
SUMMARY:Besloten feest
DESCRIPTION:
URL:https://cafedehommel.nl/event/besloten-feest-38/
END:VEVENT
BEGIN:VEVENT
DTSTART;TZID=Europe/Amsterdam:20230616T210000
DTEND;TZID=Europe/Amsterdam:20230616T210000
DTSTAMP:20260422T023358
CREATED:20230524T234536Z
LAST-MODIFIED:20230524T234536Z
UID:4417-1686949200-1686949200@cafedehommel.nl
SUMMARY:RUSTY NAIL
DESCRIPTION:Rusty Nail’s repertoire bestaat uit Jazzy Blues\, Rock&Roll en Chicago Blues covers vnl uit de 50’s en 60’s
URL:https://cafedehommel.nl/event/rusty-nail-5/
END:VEVENT
BEGIN:VEVENT
DTSTART;TZID=Europe/Amsterdam:20230617T210000
DTEND;TZID=Europe/Amsterdam:20230617T210000
DTSTAMP:20260422T023358
CREATED:20230524T235339Z
LAST-MODIFIED:20230524T235339Z
UID:4419-1687035600-1687035600@cafedehommel.nl
SUMMARY:LAPRÉ BAND
DESCRIPTION:LAPRÉ BAND speelt Funk en rocknummers van de jaren ’70 tot heden. Alles natuurlijk wel met een Lapré twist.
URL:https://cafedehommel.nl/event/lapre-band-7/
END:VEVENT
BEGIN:VEVENT
DTSTART;TZID=Europe/Amsterdam:20230618T150000
DTEND;TZID=Europe/Amsterdam:20230618T150000
DTSTAMP:20260422T023358
CREATED:20230617T103210Z
LAST-MODIFIED:20230617T103210Z
UID:4539-1687100400-1687100400@cafedehommel.nl
SUMMARY:POPSCHOOL DE REUS
DESCRIPTION:De leerlingen van Popschool de Reus laten ons zien en horen wat zij tot nu geleerd hebben.
URL:https://cafedehommel.nl/event/popschool-de-reus/
END:VEVENT
BEGIN:VEVENT
DTSTART;TZID=Europe/Amsterdam:20230622T200000
DTEND;TZID=Europe/Amsterdam:20230622T200000
DTSTAMP:20260422T023358
CREATED:20230530T141910Z
LAST-MODIFIED:20230530T141910Z
UID:4467-1687464000-1687464000@cafedehommel.nl
SUMMARY:FOLKSESSIE
DESCRIPTION:Iedere 2e en 4e donderdag van de maand is er een Folksessie in de Hommel. Iedereen is van harte welkom zowel de muzikanten als de luisteraars
URL:https://cafedehommel.nl/event/folksessie-60/
END:VEVENT
BEGIN:VEVENT
DTSTART;TZID=Europe/Amsterdam:20230623T210000
DTEND;TZID=Europe/Amsterdam:20230623T210000
DTSTAMP:20260422T023358
CREATED:20230525T000454Z
LAST-MODIFIED:20230525T000454Z
UID:4423-1687554000-1687554000@cafedehommel.nl
SUMMARY:LES SALOPES
DESCRIPTION:De Rotterdamse Hard Blues\, Alt.Rockband speelt eigen werk.
URL:https://cafedehommel.nl/event/les-salopes-2/
END:VEVENT
BEGIN:VEVENT
DTSTART;TZID=Europe/Amsterdam:20230624T210000
DTEND;TZID=Europe/Amsterdam:20230624T210000
DTSTAMP:20260422T023358
CREATED:20230525T002453Z
LAST-MODIFIED:20230525T002453Z
UID:4426-1687640400-1687640400@cafedehommel.nl
SUMMARY:LOS METALLICOS
DESCRIPTION:De naam doet al iets vermoeden. Deze Metallica Tribute-band focust zich vnl op de vroege jaren (1983-1988) van Metallica.
URL:https://cafedehommel.nl/event/los-metallicos/
END:VEVENT
BEGIN:VEVENT
DTSTART;VALUE=DATE:20230630
DTEND;VALUE=DATE:20230701
DTSTAMP:20260422T023358
CREATED:20230617T104730Z
LAST-MODIFIED:20230617T104730Z
UID:4545-1688083200-1688169599@cafedehommel.nl
SUMMARY:BESLOTEN FEEST
DESCRIPTION:
URL:https://cafedehommel.nl/event/besloten-feest-41/
END:VEVENT
END:VCALENDAR