BEGIN:VCALENDAR
VERSION:2.0
PRODID:-//Muziekcaf&eacute; de Hommel - ECPv6.8.2.1//NONSGML v1.0//EN
CALSCALE:GREGORIAN
METHOD:PUBLISH
X-ORIGINAL-URL:https://cafedehommel.nl
X-WR-CALDESC:Evenementen voor Muziekcaf&eacute; de Hommel
REFRESH-INTERVAL;VALUE=DURATION:PT1H
X-Robots-Tag:noindex
X-PUBLISHED-TTL:PT1H
BEGIN:VTIMEZONE
TZID:Europe/Amsterdam
BEGIN:DAYLIGHT
TZOFFSETFROM:+0100
TZOFFSETTO:+0200
TZNAME:CEST
DTSTART:20260329T010000
END:DAYLIGHT
BEGIN:STANDARD
TZOFFSETFROM:+0200
TZOFFSETTO:+0100
TZNAME:CET
DTSTART:20261025T010000
END:STANDARD
END:VTIMEZONE
BEGIN:VEVENT
DTSTART;TZID=Europe/Amsterdam:20260627T210000
DTEND;TZID=Europe/Amsterdam:20260627T210000
DTSTAMP:20260426T062005
CREATED:20260425T144033Z
LAST-MODIFIED:20260425T144033Z
UID:8832-1782594000-1782594000@cafedehommel.nl
SUMMARY:INSTANT CHEMISTRY
DESCRIPTION:De band bestaat uit vijf muzikanten die hun sporen al in diverse andere bands verdiend hebben. Zij spelen hits vanuit de 70’s tot 10’s. Maar ook af en toe met een knipoog naar het nu.
URL:https://cafedehommel.nl/event/instant-chemistry/
ATTACH;FMTTYPE=image/jpeg:https://cafedehommel.nl/wp-content/uploads/2026/04/Polish_20260425_163202196.jpg
END:VEVENT
END:VCALENDAR