BEGIN:VCALENDAR
VERSION:2.0
PRODID:-//Muziekcaf&eacute; de Hommel - ECPv6.8.2.1//NONSGML v1.0//EN
CALSCALE:GREGORIAN
METHOD:PUBLISH
X-ORIGINAL-URL:https://cafedehommel.nl
X-WR-CALDESC:Evenementen voor Muziekcaf&eacute; de Hommel
REFRESH-INTERVAL;VALUE=DURATION:PT1H
X-Robots-Tag:noindex
X-PUBLISHED-TTL:PT1H
BEGIN:VTIMEZONE
TZID:Europe/Amsterdam
BEGIN:DAYLIGHT
TZOFFSETFROM:+0100
TZOFFSETTO:+0200
TZNAME:CEST
DTSTART:20260329T010000
END:DAYLIGHT
BEGIN:STANDARD
TZOFFSETFROM:+0200
TZOFFSETTO:+0100
TZNAME:CET
DTSTART:20261025T010000
END:STANDARD
END:VTIMEZONE
BEGIN:VEVENT
DTSTART;TZID=Europe/Amsterdam:20260522T210000
DTEND;TZID=Europe/Amsterdam:20260522T213000
DTSTAMP:20260425T145747
CREATED:20260414T224729Z
LAST-MODIFIED:20260414T224729Z
UID:8788-1779483600-1779485400@cafedehommel.nl
SUMMARY:BLUE ANGEL BAND
DESCRIPTION:Een vijfkoppige coverband die elkaar gevonden hebben in hun liefde voor blues en rock. Zij spelen de bekende blues-rock classics waarbij hun plezier ervan af spat.
URL:https://cafedehommel.nl/event/blue-angel-band/
ATTACH;FMTTYPE=image/jpeg:https://cafedehommel.nl/wp-content/uploads/2026/04/Polish_20260415_003942523.jpg
END:VEVENT
BEGIN:VEVENT
DTSTART;TZID=Europe/Amsterdam:20260523T210000
DTEND;TZID=Europe/Amsterdam:20260523T210000
DTSTAMP:20260425T145747
CREATED:20260414T221832Z
LAST-MODIFIED:20260424T113721Z
UID:8781-1779570000-1779570000@cafedehommel.nl
SUMMARY:THE GREEX
DESCRIPTION:Een ervaren coverband met een gedeelde passie voor de rockklassiekers uit de jaren ’70\, ’80 en ’90. Met vakmanschap\, enthousiasme en vooral veel plezier brengen ze een show vol strakke riffs\, krachtige zang en meezingers die je terugbrengen naar de hoogtijdagen van de rock. Dus……dansschoenen aan.
URL:https://cafedehommel.nl/event/exqsme/
ATTACH;FMTTYPE=image/jpeg:https://cafedehommel.nl/wp-content/uploads/2026/04/Polish_20260424_120114535.jpg
END:VEVENT
BEGIN:VEVENT
DTSTART;TZID=Europe/Amsterdam:20260528T200000
DTEND;TZID=Europe/Amsterdam:20260528T200000
DTSTAMP:20260425T145747
CREATED:20260414T203653Z
LAST-MODIFIED:20260414T203653Z
UID:8771-1779998400-1779998400@cafedehommel.nl
SUMMARY:FOLKSESSIE
DESCRIPTION:Elke 2e en 4e donderdag van de maand is er een Folksessie in de Hommel. Uiteraard is iedereen hierbij van harte welkom zowel de muzikant als de luisteraar
URL:https://cafedehommel.nl/event/folksessie-123/
ATTACH;FMTTYPE=image/jpeg:https://cafedehommel.nl/wp-content/uploads/2025/07/20240821_112307-scaled.jpg
END:VEVENT
BEGIN:VEVENT
DTSTART;VALUE=DATE:20260529
DTEND;VALUE=DATE:20260530
DTSTAMP:20260425T145747
CREATED:20260414T204318Z
LAST-MODIFIED:20260414T204318Z
UID:8773-1780012800-1780099199@cafedehommel.nl
SUMMARY:Besloten Feest
DESCRIPTION:
URL:https://cafedehommel.nl/event/besloten-feest-81/
ATTACH;FMTTYPE=image/jpeg:https://cafedehommel.nl/wp-content/uploads/2025/09/2022-04-18-02-39-21.jpg
END:VEVENT
BEGIN:VEVENT
DTSTART;TZID=Europe/Amsterdam:20260530T210000
DTEND;TZID=Europe/Amsterdam:20260530T213000
DTSTAMP:20260425T145747
CREATED:20260414T223451Z
LAST-MODIFIED:20260414T223451Z
UID:8784-1780174800-1780176600@cafedehommel.nl
SUMMARY:MOX
DESCRIPTION:Een energieke rockband die in 2019 opgericht is. De mannen combineren harde gitaren met pakkende melodieën\, krachtige zang\, strakke ritmes en onvergetelijke hooks.
URL:https://cafedehommel.nl/event/mox/
ATTACH;FMTTYPE=image/jpeg:https://cafedehommel.nl/wp-content/uploads/2026/04/Polish_20260415_0025024381.jpg
END:VEVENT
END:VCALENDAR