BEGIN:VCALENDAR
VERSION:2.0
PRODID:-//Muziekcaf&eacute; de Hommel - ECPv6.8.2.1//NONSGML v1.0//EN
CALSCALE:GREGORIAN
METHOD:PUBLISH
X-WR-CALNAME:Muziekcaf&eacute; de Hommel
X-ORIGINAL-URL:https://cafedehommel.nl
X-WR-CALDESC:Evenementen voor Muziekcaf&eacute; de Hommel
REFRESH-INTERVAL;VALUE=DURATION:PT1H
X-Robots-Tag:noindex
X-PUBLISHED-TTL:PT1H
BEGIN:VTIMEZONE
TZID:Europe/Amsterdam
BEGIN:DAYLIGHT
TZOFFSETFROM:+0100
TZOFFSETTO:+0200
TZNAME:CEST
DTSTART:20260329T010000
END:DAYLIGHT
BEGIN:STANDARD
TZOFFSETFROM:+0200
TZOFFSETTO:+0100
TZNAME:CET
DTSTART:20261025T010000
END:STANDARD
END:VTIMEZONE
BEGIN:VEVENT
DTSTART;TZID=Europe/Amsterdam:20260425T204500
DTEND;TZID=Europe/Amsterdam:20260425T204500
DTSTAMP:20260425T023032
CREATED:20260407T144048Z
LAST-MODIFIED:20260424T180029Z
UID:8736-1777149900-1777149900@cafedehommel.nl
SUMMARY:een duo WIRE&WOOD én een band REMEMBER TORONTO
DESCRIPTION:Wire&Wood \nZaterdag..25-04..20.45uur\neen duo én een band band t.w.\n☆WIRE&WOOD☆\nEen semi-akoestich duo\nLotte en Robert hebben gevarieerde setlist. Een mix van jazz/pop/rock. Denk aan Fleetwood Mac\, Nona\, Radiohead\, Teddy Swims\, Kansas e.v.a.\n☆BEAUTIFUL BRILLO☆\nDe mannen van deze coverband laten ons genieten van vele pop- en rock- klassiekers. Een feest van herkenning dus trek de dansschoenen maar weer aan \n 
URL:https://cafedehommel.nl/event/remember-toronto-5/
ATTACH;FMTTYPE=image/jpeg:https://cafedehommel.nl/wp-content/uploads/2026/04/Polish_20260418_124024528.jpg
END:VEVENT
END:VCALENDAR