BEGIN:VCALENDAR
VERSION:2.0
PRODID:-//Muziekcaf&eacute; de Hommel - ECPv6.8.2.1//NONSGML v1.0//EN
CALSCALE:GREGORIAN
METHOD:PUBLISH
X-WR-CALNAME:Muziekcaf&eacute; de Hommel
X-ORIGINAL-URL:https://cafedehommel.nl
X-WR-CALDESC:Evenementen voor Muziekcaf&eacute; de Hommel
REFRESH-INTERVAL;VALUE=DURATION:PT1H
X-Robots-Tag:noindex
X-PUBLISHED-TTL:PT1H
BEGIN:VTIMEZONE
TZID:Europe/Amsterdam
BEGIN:DAYLIGHT
TZOFFSETFROM:+0100
TZOFFSETTO:+0200
TZNAME:CEST
DTSTART:20260329T010000
END:DAYLIGHT
BEGIN:STANDARD
TZOFFSETFROM:+0200
TZOFFSETTO:+0100
TZNAME:CET
DTSTART:20261025T010000
END:STANDARD
END:VTIMEZONE
BEGIN:VEVENT
DTSTART;TZID=Europe/Amsterdam:20260423T200000
DTEND;TZID=Europe/Amsterdam:20260423T200000
DTSTAMP:20260423T122229
CREATED:20260322T230012Z
LAST-MODIFIED:20260323T001124Z
UID:8662-1776974400-1776974400@cafedehommel.nl
SUMMARY:JUN op de Folksessie avond
DESCRIPTION:Vanavond een speciale Folksessie in de Hommel met de Vlaardingse familiegroep JUN.  Zij laten zich inspireren door de Keltische muziek en verrassen met zang en muziek\, zichzelf begeleidend op een scala van instrumenten. Dit veelal met eigen bewerking\, nieuwe teksten op bestaande melodieën of eigen werk en met een afwisseling van zang in ‘close harmonie’\,  solozang en instrumentale gedeelten.
URL:https://cafedehommel.nl/event/folksessie-121/
ATTACH;FMTTYPE=image/jpeg:https://cafedehommel.nl/wp-content/uploads/2026/03/JIN-2-.jpg
END:VEVENT
END:VCALENDAR