BEGIN:VCALENDAR
VERSION:2.0
PRODID:-//Muziekcaf&eacute; de Hommel - ECPv6.8.2.1//NONSGML v1.0//EN
CALSCALE:GREGORIAN
METHOD:PUBLISH
X-ORIGINAL-URL:https://cafedehommel.nl
X-WR-CALDESC:Evenementen voor Muziekcaf&eacute; de Hommel
REFRESH-INTERVAL;VALUE=DURATION:PT1H
X-Robots-Tag:noindex
X-PUBLISHED-TTL:PT1H
BEGIN:VTIMEZONE
TZID:Europe/Amsterdam
BEGIN:DAYLIGHT
TZOFFSETFROM:+0100
TZOFFSETTO:+0200
TZNAME:CEST
DTSTART:20240331T010000
END:DAYLIGHT
BEGIN:STANDARD
TZOFFSETFROM:+0200
TZOFFSETTO:+0100
TZNAME:CET
DTSTART:20241027T010000
END:STANDARD
END:VTIMEZONE
BEGIN:VEVENT
DTSTART;TZID=Europe/Amsterdam:20240720T210000
DTEND;TZID=Europe/Amsterdam:20240720T210000
DTSTAMP:20260421T115924
CREATED:20240616T221039Z
LAST-MODIFIED:20240616T221039Z
UID:5875-1721509200-1721509200@cafedehommel.nl
SUMMARY:SJEK SJEKKIE EN DE VLOEDJES
DESCRIPTION:Ooit in Brielle begonnen als een grap\, een jam met vaste muzikanten.  Gestart als 3 mans formatie\, inmiddels zijn ze met 5 man en 2 vrouwen. Ze spelen vnl. een repertoire van rock&roll en blues.
URL:https://cafedehommel.nl/event/sjek-sjekkie-en-de-vloedjes/
ATTACH;FMTTYPE=image/jpeg:https://cafedehommel.nl/wp-content/uploads/2024/06/2024-06-16-23-59-16-200.jpg
END:VEVENT
END:VCALENDAR