BEGIN:VCALENDAR
VERSION:2.0
PRODID:-//Muziekcaf&eacute; de Hommel - ECPv6.8.2.1//NONSGML v1.0//EN
CALSCALE:GREGORIAN
METHOD:PUBLISH
X-ORIGINAL-URL:https://cafedehommel.nl
X-WR-CALDESC:Evenementen voor Muziekcaf&eacute; de Hommel
REFRESH-INTERVAL;VALUE=DURATION:PT1H
X-Robots-Tag:noindex
X-PUBLISHED-TTL:PT1H
BEGIN:VTIMEZONE
TZID:Europe/Amsterdam
BEGIN:DAYLIGHT
TZOFFSETFROM:+0100
TZOFFSETTO:+0200
TZNAME:CEST
DTSTART:20240331T010000
END:DAYLIGHT
BEGIN:STANDARD
TZOFFSETFROM:+0200
TZOFFSETTO:+0100
TZNAME:CET
DTSTART:20241027T010000
END:STANDARD
END:VTIMEZONE
BEGIN:VEVENT
DTSTART;TZID=Europe/Amsterdam:20240622T210000
DTEND;TZID=Europe/Amsterdam:20240622T210000
DTSTAMP:20260419T180618
CREATED:20240528T222836Z
LAST-MODIFIED:20240528T222836Z
UID:5761-1719090000-1719090000@cafedehommel.nl
SUMMARY:THE FLEXIBLES
DESCRIPTION:Een vijfkoppige coverband waarvan de muzikanten zijn sporen verdiend hebben in vele Nederlandse bands. Dus als je van swingende covers (zoals van Fleetwood Mac\, Lenny Kravitz\, No Doubt en vele anderen) houdt kom dan van the Flexibles genieten. Zij treden ook op als één van de vijf bands op ons Bluespodium de Dayer op het Haring&Bierfestival.
URL:https://cafedehommel.nl/event/the-flexibles/
ATTACH;FMTTYPE=image/jpeg:https://cafedehommel.nl/wp-content/uploads/2024/05/IMG-20240527-WA0001-e1748268152665.jpg
END:VEVENT
END:VCALENDAR