BEGIN:VCALENDAR
VERSION:2.0
PRODID:-//Muziekcaf&eacute; de Hommel - ECPv6.8.2.1//NONSGML v1.0//EN
CALSCALE:GREGORIAN
METHOD:PUBLISH
X-ORIGINAL-URL:https://cafedehommel.nl
X-WR-CALDESC:Evenementen voor Muziekcaf&eacute; de Hommel
REFRESH-INTERVAL;VALUE=DURATION:PT1H
X-Robots-Tag:noindex
X-PUBLISHED-TTL:PT1H
BEGIN:VTIMEZONE
TZID:Europe/Amsterdam
BEGIN:DAYLIGHT
TZOFFSETFROM:+0100
TZOFFSETTO:+0200
TZNAME:CEST
DTSTART:20240331T010000
END:DAYLIGHT
BEGIN:STANDARD
TZOFFSETFROM:+0200
TZOFFSETTO:+0100
TZNAME:CET
DTSTART:20241027T010000
END:STANDARD
END:VTIMEZONE
BEGIN:VEVENT
DTSTART;TZID=Europe/Amsterdam:20240621T210000
DTEND;TZID=Europe/Amsterdam:20240621T210000
DTSTAMP:20260419T163246
CREATED:20240506T195133Z
LAST-MODIFIED:20240506T195133Z
UID:5724-1719003600-1719003600@cafedehommel.nl
SUMMARY:YELLOW BANDITS
DESCRIPTION:Deze coverband komt uit Rotterdam e.o. en speelt zowel de klassieke als ook de hedendaagse rock hits met een touch of soul.
URL:https://cafedehommel.nl/event/yellow-bandits/
ATTACH;FMTTYPE=image/jpeg:https://cafedehommel.nl/wp-content/uploads/2024/05/Polish_20240506_213431629.jpg
END:VEVENT
END:VCALENDAR