BEGIN:VCALENDAR
VERSION:2.0
PRODID:-//Muziekcaf&eacute; de Hommel - ECPv6.8.2.1//NONSGML v1.0//EN
CALSCALE:GREGORIAN
METHOD:PUBLISH
X-ORIGINAL-URL:https://cafedehommel.nl
X-WR-CALDESC:Evenementen voor Muziekcaf&eacute; de Hommel
REFRESH-INTERVAL;VALUE=DURATION:PT1H
X-Robots-Tag:noindex
X-PUBLISHED-TTL:PT1H
BEGIN:VTIMEZONE
TZID:Europe/Amsterdam
BEGIN:DAYLIGHT
TZOFFSETFROM:+0100
TZOFFSETTO:+0200
TZNAME:CEST
DTSTART:20240331T010000
END:DAYLIGHT
BEGIN:STANDARD
TZOFFSETFROM:+0200
TZOFFSETTO:+0100
TZNAME:CET
DTSTART:20241027T010000
END:STANDARD
END:VTIMEZONE
BEGIN:VEVENT
DTSTART;TZID=Europe/Amsterdam:20240615T210000
DTEND;TZID=Europe/Amsterdam:20240615T210000
DTSTAMP:20260419T163205
CREATED:20240514T224823Z
LAST-MODIFIED:20240514T224823Z
UID:5753-1718485200-1718485200@cafedehommel.nl
SUMMARY:McPHISTO (tribute U2)
DESCRIPTION:Deze U2 Tribute-band  McPHISTO   bestaat uit: drummer  DENNIS\, bassist PETER\, gitarist ROB en frontman WALTER.
URL:https://cafedehommel.nl/event/mcphisto-tribute-u2/
END:VEVENT
END:VCALENDAR