BEGIN:VCALENDAR
VERSION:2.0
PRODID:-//Muziekcaf&eacute; de Hommel - ECPv6.8.2.1//NONSGML v1.0//EN
CALSCALE:GREGORIAN
METHOD:PUBLISH
X-ORIGINAL-URL:https://cafedehommel.nl
X-WR-CALDESC:Evenementen voor Muziekcaf&eacute; de Hommel
REFRESH-INTERVAL;VALUE=DURATION:PT1H
X-Robots-Tag:noindex
X-PUBLISHED-TTL:PT1H
BEGIN:VTIMEZONE
TZID:Europe/Amsterdam
BEGIN:DAYLIGHT
TZOFFSETFROM:+0100
TZOFFSETTO:+0200
TZNAME:CEST
DTSTART:20240331T010000
END:DAYLIGHT
BEGIN:STANDARD
TZOFFSETFROM:+0200
TZOFFSETTO:+0100
TZNAME:CET
DTSTART:20241027T010000
END:STANDARD
END:VTIMEZONE
BEGIN:VEVENT
DTSTART;TZID=Europe/Amsterdam:20240505T150000
DTEND;TZID=Europe/Amsterdam:20240505T150000
DTSTAMP:20260419T210407
CREATED:20240323T111411Z
LAST-MODIFIED:20240323T111411Z
UID:5626-1714921200-1714921200@cafedehommel.nl
SUMMARY:BLUES JAMSESSIE
DESCRIPTION:Elke 1e zondag van de maand is er een Blues Jamsessie in de Hommel. Iedereen is van harte welkom zowel de muzikant als de luisteraar
URL:https://cafedehommel.nl/event/blues-jamsessie-40/
END:VEVENT
END:VCALENDAR