BEGIN:VCALENDAR
VERSION:2.0
PRODID:-//Muziekcaf&eacute; de Hommel - ECPv6.8.2.1//NONSGML v1.0//EN
CALSCALE:GREGORIAN
METHOD:PUBLISH
X-ORIGINAL-URL:https://cafedehommel.nl
X-WR-CALDESC:Evenementen voor Muziekcaf&eacute; de Hommel
REFRESH-INTERVAL;VALUE=DURATION:PT1H
X-Robots-Tag:noindex
X-PUBLISHED-TTL:PT1H
BEGIN:VTIMEZONE
TZID:Europe/Amsterdam
BEGIN:DAYLIGHT
TZOFFSETFROM:+0100
TZOFFSETTO:+0200
TZNAME:CEST
DTSTART:20240331T010000
END:DAYLIGHT
BEGIN:STANDARD
TZOFFSETFROM:+0200
TZOFFSETTO:+0100
TZNAME:CET
DTSTART:20241027T010000
END:STANDARD
END:VTIMEZONE
BEGIN:VEVENT
DTSTART;TZID=Europe/Amsterdam:20240323T210000
DTEND;TZID=Europe/Amsterdam:20240323T210000
DTSTAMP:20260423T135951
CREATED:20240224T212255Z
LAST-MODIFIED:20240224T212255Z
UID:5528-1711227600-1711227600@cafedehommel.nl
SUMMARY:WINSTON
DESCRIPTION:Ondanks het grote verschil in leeftijd (18 t/m 67) delen de bandleden van Winston hun passie voor een lekker stukje gitaarmuziek. Het liefst uit de jaren 90. Na anderhalf jaar werkt de band met veel plezier toe naar hun eerste optreden. Heb je ooit het eerste optreden van de Red Hot Chili Peppers in Nederland gemist? Dit is je kans om het goed te maken. 23 maart\, 21.00 uur in de Hommel.\nWinston Live.
URL:https://cafedehommel.nl/event/winston/
ATTACH;FMTTYPE=image/jpeg:https://cafedehommel.nl/wp-content/uploads/2024/02/IMG-20240224-WA0001.jpg
END:VEVENT
END:VCALENDAR