BEGIN:VCALENDAR
VERSION:2.0
PRODID:-//Muziekcaf&eacute; de Hommel - ECPv6.8.2.1//NONSGML v1.0//EN
CALSCALE:GREGORIAN
METHOD:PUBLISH
X-WR-CALNAME:Muziekcaf&eacute; de Hommel
X-ORIGINAL-URL:https://cafedehommel.nl
X-WR-CALDESC:Evenementen voor Muziekcaf&eacute; de Hommel
REFRESH-INTERVAL;VALUE=DURATION:PT1H
X-Robots-Tag:noindex
X-PUBLISHED-TTL:PT1H
BEGIN:VTIMEZONE
TZID:Europe/Amsterdam
BEGIN:DAYLIGHT
TZOFFSETFROM:+0100
TZOFFSETTO:+0200
TZNAME:CEST
DTSTART:20240331T010000
END:DAYLIGHT
BEGIN:STANDARD
TZOFFSETFROM:+0200
TZOFFSETTO:+0100
TZNAME:CET
DTSTART:20241027T010000
END:STANDARD
END:VTIMEZONE
BEGIN:VEVENT
DTSTART;TZID=Europe/Amsterdam:20240322T210000
DTEND;TZID=Europe/Amsterdam:20240322T210000
DTSTAMP:20260419T222625
CREATED:20240317T165418Z
LAST-MODIFIED:20240317T165418Z
UID:5598-1711141200-1711141200@cafedehommel.nl
SUMMARY:COVER THE GROOVE
DESCRIPTION:Een coverband met een groovy  pop\, soul en dance repertoire. Denk aan o.a. Prince\, Bruno Mars\, Kate Perry\, Justin Timberlake\, Donna Summer\, Robert Gray\, Bill Withers…………..enz. enz.
URL:https://cafedehommel.nl/event/cover-the-groove/
ATTACH;FMTTYPE=image/jpeg:https://cafedehommel.nl/wp-content/uploads/2024/03/Polish_20240317_174750751-scaled.jpg
END:VEVENT
END:VCALENDAR