BEGIN:VCALENDAR
VERSION:2.0
PRODID:-//Muziekcaf&eacute; de Hommel - ECPv6.8.2.1//NONSGML v1.0//EN
CALSCALE:GREGORIAN
METHOD:PUBLISH
X-WR-CALNAME:Muziekcaf&eacute; de Hommel
X-ORIGINAL-URL:https://cafedehommel.nl
X-WR-CALDESC:Evenementen voor Muziekcaf&eacute; de Hommel
REFRESH-INTERVAL;VALUE=DURATION:PT1H
X-Robots-Tag:noindex
X-PUBLISHED-TTL:PT1H
BEGIN:VTIMEZONE
TZID:Europe/Amsterdam
BEGIN:DAYLIGHT
TZOFFSETFROM:+0100
TZOFFSETTO:+0200
TZNAME:CEST
DTSTART:20240331T010000
END:DAYLIGHT
BEGIN:STANDARD
TZOFFSETFROM:+0200
TZOFFSETTO:+0100
TZNAME:CET
DTSTART:20241027T010000
END:STANDARD
END:VTIMEZONE
BEGIN:VEVENT
DTSTART;TZID=Europe/Amsterdam:20240222T200000
DTEND;TZID=Europe/Amsterdam:20240222T200000
DTSTAMP:20260419T234947
CREATED:20240208T143716Z
LAST-MODIFIED:20240208T143716Z
UID:5465-1708632000-1708632000@cafedehommel.nl
SUMMARY:FOLKSESSIE
DESCRIPTION:Elke 2e en 4e donderdag van de maand is er een FOLKSESSIE in de Hommel. Iedereen is van harte welkom\, zowel de muzikant als de luisteraar
URL:https://cafedehommel.nl/event/folksessie-76/
END:VEVENT
END:VCALENDAR