BEGIN:VCALENDAR
VERSION:2.0
PRODID:-//Muziekcaf&eacute; de Hommel - ECPv6.8.2.1//NONSGML v1.0//EN
CALSCALE:GREGORIAN
METHOD:PUBLISH
X-WR-CALNAME:Muziekcaf&eacute; de Hommel
X-ORIGINAL-URL:https://cafedehommel.nl
X-WR-CALDESC:Evenementen voor Muziekcaf&eacute; de Hommel
REFRESH-INTERVAL;VALUE=DURATION:PT1H
X-Robots-Tag:noindex
X-PUBLISHED-TTL:PT1H
BEGIN:VTIMEZONE
TZID:Europe/Amsterdam
BEGIN:DAYLIGHT
TZOFFSETFROM:+0100
TZOFFSETTO:+0200
TZNAME:CEST
DTSTART:20240331T010000
END:DAYLIGHT
BEGIN:STANDARD
TZOFFSETFROM:+0200
TZOFFSETTO:+0100
TZNAME:CET
DTSTART:20241027T010000
END:STANDARD
END:VTIMEZONE
BEGIN:VEVENT
DTSTART;TZID=Europe/Amsterdam:20240216T210000
DTEND;TZID=Europe/Amsterdam:20240216T210000
DTSTAMP:20260420T012309
CREATED:20240208T082415Z
LAST-MODIFIED:20240208T082415Z
UID:5458-1708117200-1708117200@cafedehommel.nl
SUMMARY:RIGHT ON TRACK
DESCRIPTION:Right on Track is een feel good pop-rock coverband. De band speelt van pop (Anastacia) tot rock (Bon Jovi) tot blues (BB King) en alles wat hier tussen zit.
URL:https://cafedehommel.nl/event/right-on-track-2/
END:VEVENT
END:VCALENDAR