BEGIN:VCALENDAR
VERSION:2.0
PRODID:-//Muziekcaf&eacute; de Hommel - ECPv6.8.2.1//NONSGML v1.0//EN
CALSCALE:GREGORIAN
METHOD:PUBLISH
X-ORIGINAL-URL:https://cafedehommel.nl
X-WR-CALDESC:Evenementen voor Muziekcaf&eacute; de Hommel
REFRESH-INTERVAL;VALUE=DURATION:PT1H
X-Robots-Tag:noindex
X-PUBLISHED-TTL:PT1H
BEGIN:VTIMEZONE
TZID:Europe/Amsterdam
BEGIN:DAYLIGHT
TZOFFSETFROM:+0100
TZOFFSETTO:+0200
TZNAME:CEST
DTSTART:20240331T010000
END:DAYLIGHT
BEGIN:STANDARD
TZOFFSETFROM:+0200
TZOFFSETTO:+0100
TZNAME:CET
DTSTART:20241027T010000
END:STANDARD
END:VTIMEZONE
BEGIN:VEVENT
DTSTART;TZID=Europe/Amsterdam:20240210T210000
DTEND;TZID=Europe/Amsterdam:20240210T210000
DTSTAMP:20260419T234131
CREATED:20240120T165736Z
LAST-MODIFIED:20240210T101137Z
UID:5372-1707598800-1707598800@cafedehommel.nl
SUMMARY:UFONIX 5 helaas ivm ziekte geannuleerd
DESCRIPTION:Deze\, inmiddels 15 jarige\, vijf-mans sterke band bestaat uit zeer ervaren muzikanten.  Zij zijn gek op fusion muziek\, een mix van jazz\, rock en funk met veel ruimte voor improvisatie. Los van Steely Dan\, Adam Nitti en vele anderen speelt de band ook eigen werk met een eigen sound.
URL:https://cafedehommel.nl/event/ufonix-5/
END:VEVENT
END:VCALENDAR