BEGIN:VCALENDAR
VERSION:2.0
PRODID:-//Muziekcaf&eacute; de Hommel - ECPv6.8.2.1//NONSGML v1.0//EN
CALSCALE:GREGORIAN
METHOD:PUBLISH
X-WR-CALNAME:Muziekcaf&eacute; de Hommel
X-ORIGINAL-URL:https://cafedehommel.nl
X-WR-CALDESC:Evenementen voor Muziekcaf&eacute; de Hommel
REFRESH-INTERVAL;VALUE=DURATION:PT1H
X-Robots-Tag:noindex
X-PUBLISHED-TTL:PT1H
BEGIN:VTIMEZONE
TZID:Europe/Amsterdam
BEGIN:DAYLIGHT
TZOFFSETFROM:+0100
TZOFFSETTO:+0200
TZNAME:CEST
DTSTART:20240331T010000
END:DAYLIGHT
BEGIN:STANDARD
TZOFFSETFROM:+0200
TZOFFSETTO:+0100
TZNAME:CET
DTSTART:20241027T010000
END:STANDARD
END:VTIMEZONE
BEGIN:VEVENT
DTSTART;TZID=Europe/Amsterdam:20240203T210000
DTEND;TZID=Europe/Amsterdam:20240203T210000
DTSTAMP:20260419T234518
CREATED:20240120T163409Z
LAST-MODIFIED:20240120T163409Z
UID:5364-1706994000-1706994000@cafedehommel.nl
SUMMARY:GUANO
DESCRIPTION:Een gitaar-rockband uit Delft die met heel veel plezier eigen werk speelt.
URL:https://cafedehommel.nl/event/guano/
END:VEVENT
END:VCALENDAR