BEGIN:VCALENDAR
VERSION:2.0
PRODID:-//Muziekcaf&eacute; de Hommel - ECPv6.8.2.1//NONSGML v1.0//EN
CALSCALE:GREGORIAN
METHOD:PUBLISH
X-ORIGINAL-URL:https://cafedehommel.nl
X-WR-CALDESC:Evenementen voor Muziekcaf&eacute; de Hommel
REFRESH-INTERVAL;VALUE=DURATION:PT1H
X-Robots-Tag:noindex
X-PUBLISHED-TTL:PT1H
BEGIN:VTIMEZONE
TZID:Europe/Amsterdam
BEGIN:DAYLIGHT
TZOFFSETFROM:+0100
TZOFFSETTO:+0200
TZNAME:CEST
DTSTART:20240331T010000
END:DAYLIGHT
BEGIN:STANDARD
TZOFFSETFROM:+0200
TZOFFSETTO:+0100
TZNAME:CET
DTSTART:20241027T010000
END:STANDARD
END:VTIMEZONE
BEGIN:VEVENT
DTSTART;TZID=Europe/Amsterdam:20240106T210000
DTEND;TZID=Europe/Amsterdam:20240106T210000
DTSTAMP:20260420T041140
CREATED:20231231T102015Z
LAST-MODIFIED:20231231T102015Z
UID:5266-1704574800-1704574800@cafedehommel.nl
SUMMARY:ROCKFORMATION
DESCRIPTION:Een 6 koppige coverband uit Den Haag die popklassiekers  rockparels en nederpop toppers speelt. Dit alles met hun eigen rauwe randje. Als dat geen dansen wordt.
URL:https://cafedehommel.nl/event/rockformation-2/
END:VEVENT
END:VCALENDAR