BEGIN:VCALENDAR
VERSION:2.0
PRODID:-//Muziekcaf&eacute; de Hommel - ECPv6.8.2.1//NONSGML v1.0//EN
CALSCALE:GREGORIAN
METHOD:PUBLISH
X-WR-CALNAME:Muziekcaf&eacute; de Hommel
X-ORIGINAL-URL:https://cafedehommel.nl
X-WR-CALDESC:Evenementen voor Muziekcaf&eacute; de Hommel
REFRESH-INTERVAL;VALUE=DURATION:PT1H
X-Robots-Tag:noindex
X-PUBLISHED-TTL:PT1H
BEGIN:VTIMEZONE
TZID:Europe/Amsterdam
BEGIN:DAYLIGHT
TZOFFSETFROM:+0100
TZOFFSETTO:+0200
TZNAME:CEST
DTSTART:20230326T010000
END:DAYLIGHT
BEGIN:STANDARD
TZOFFSETFROM:+0200
TZOFFSETTO:+0100
TZNAME:CET
DTSTART:20231029T010000
END:STANDARD
END:VTIMEZONE
BEGIN:VEVENT
DTSTART;TZID=Europe/Amsterdam:20231228T080000
DTEND;TZID=Europe/Amsterdam:20231228T170000
DTSTAMP:20260423T184645
CREATED:20231228T221512Z
LAST-MODIFIED:20231228T221512Z
UID:5244-1703750400-1703782800@cafedehommel.nl
SUMMARY:ROCKFORMATION
DESCRIPTION:Een 6 koppige coverband uit Den Haag die de rockparels\, nederpop toppers en popklassiekers van alle tijden speelt. Dit alles met hun eigen rauwe randje. Zij beloven dat het dak eraf zal gaan.
URL:https://cafedehommel.nl/event/rockformation/
END:VEVENT
BEGIN:VEVENT
DTSTART;TZID=Europe/Amsterdam:20231228T200000
DTEND;TZID=Europe/Amsterdam:20231228T200000
DTSTAMP:20260423T184645
CREATED:20231029T164825Z
LAST-MODIFIED:20231029T164825Z
UID:5031-1703793600-1703793600@cafedehommel.nl
SUMMARY:FOLKSESSIE
DESCRIPTION:Iedere 2e en 4e donderdag van de maand is er een Folksessie in de Hommel. Iedereen is van harte welkom zowel de muzikant als de luisteraar.
URL:https://cafedehommel.nl/event/folksessie-72/
END:VEVENT
END:VCALENDAR