BEGIN:VCALENDAR
VERSION:2.0
PRODID:-//Muziekcaf&eacute; de Hommel - ECPv6.8.2.1//NONSGML v1.0//EN
CALSCALE:GREGORIAN
METHOD:PUBLISH
X-ORIGINAL-URL:https://cafedehommel.nl
X-WR-CALDESC:Evenementen voor Muziekcaf&eacute; de Hommel
REFRESH-INTERVAL;VALUE=DURATION:PT1H
X-Robots-Tag:noindex
X-PUBLISHED-TTL:PT1H
BEGIN:VTIMEZONE
TZID:Europe/Amsterdam
BEGIN:DAYLIGHT
TZOFFSETFROM:+0100
TZOFFSETTO:+0200
TZNAME:CEST
DTSTART:20230326T010000
END:DAYLIGHT
BEGIN:STANDARD
TZOFFSETFROM:+0200
TZOFFSETTO:+0100
TZNAME:CET
DTSTART:20231029T010000
END:STANDARD
END:VTIMEZONE
BEGIN:VEVENT
DTSTART;TZID=Europe/Amsterdam:20231202T210000
DTEND;TZID=Europe/Amsterdam:20231202T210000
DTSTAMP:20260420T025208
CREATED:20231107T185310Z
LAST-MODIFIED:20231107T185310Z
UID:5082-1701550800-1701550800@cafedehommel.nl
SUMMARY:BETTY'S BLUE HEARTS
DESCRIPTION:De muzikanten van deze tribute-band vormen een harmonieuze eenheid\, waarbij de nummers van Beth Hart opnieuw worden uitgevonden in een combinatie van zowel eerbetoon als vernieuwing.
URL:https://cafedehommel.nl/event/bettys-blue-hearts-2/
ATTACH;FMTTYPE=image/jpeg:https://cafedehommel.nl/wp-content/uploads/2023/11/2023-11-07-19-43-17.jpg
END:VEVENT
END:VCALENDAR