BEGIN:VCALENDAR
VERSION:2.0
PRODID:-//Muziekcaf&eacute; de Hommel - ECPv6.8.2.1//NONSGML v1.0//EN
CALSCALE:GREGORIAN
METHOD:PUBLISH
X-WR-CALNAME:Muziekcaf&eacute; de Hommel
X-ORIGINAL-URL:https://cafedehommel.nl
X-WR-CALDESC:Evenementen voor Muziekcaf&eacute; de Hommel
REFRESH-INTERVAL;VALUE=DURATION:PT1H
X-Robots-Tag:noindex
X-PUBLISHED-TTL:PT1H
BEGIN:VTIMEZONE
TZID:Europe/Amsterdam
BEGIN:DAYLIGHT
TZOFFSETFROM:+0100
TZOFFSETTO:+0200
TZNAME:CEST
DTSTART:20230326T010000
END:DAYLIGHT
BEGIN:STANDARD
TZOFFSETFROM:+0200
TZOFFSETTO:+0100
TZNAME:CET
DTSTART:20231029T010000
END:STANDARD
END:VTIMEZONE
BEGIN:VEVENT
DTSTART;TZID=Europe/Amsterdam:20231117T210000
DTEND;TZID=Europe/Amsterdam:20231117T210000
DTSTAMP:20260421T182149
CREATED:20231022T204013Z
LAST-MODIFIED:20231026T162151Z
UID:4976-1700254800-1700254800@cafedehommel.nl
SUMMARY:LOS RANCHEROS & SUNSET FOREST
DESCRIPTION:  LOS RANCHEROS- The Boogie Woogie Coowboys spelen een mix van Texas country en rock &roll\, kortom feest.          SUNSET FOREST is een enthousiaste en ambitieuze band. Zij spelen eigen werk met o.a. pop en folk invloeden. Hun muziek wordt getypeerd als een mix van The Lumineers\, Kodaline en Mumford ans Sons.
URL:https://cafedehommel.nl/event/sunset-forest-2/
END:VEVENT
END:VCALENDAR