BEGIN:VCALENDAR
VERSION:2.0
PRODID:-//Muziekcaf&eacute; de Hommel - ECPv6.8.2.1//NONSGML v1.0//EN
CALSCALE:GREGORIAN
METHOD:PUBLISH
X-ORIGINAL-URL:https://cafedehommel.nl
X-WR-CALDESC:Evenementen voor Muziekcaf&eacute; de Hommel
REFRESH-INTERVAL;VALUE=DURATION:PT1H
X-Robots-Tag:noindex
X-PUBLISHED-TTL:PT1H
BEGIN:VTIMEZONE
TZID:Europe/Amsterdam
BEGIN:DAYLIGHT
TZOFFSETFROM:+0100
TZOFFSETTO:+0200
TZNAME:CEST
DTSTART:20230326T010000
END:DAYLIGHT
BEGIN:STANDARD
TZOFFSETFROM:+0200
TZOFFSETTO:+0100
TZNAME:CET
DTSTART:20231029T010000
END:STANDARD
END:VTIMEZONE
BEGIN:VEVENT
DTSTART;TZID=Europe/Amsterdam:20230930T210000
DTEND;TZID=Europe/Amsterdam:20230930T210000
DTSTAMP:20260421T182140
CREATED:20230829T233248Z
LAST-MODIFIED:20230829T233248Z
UID:4762-1696107600-1696107600@cafedehommel.nl
SUMMARY:KAJAL
DESCRIPTION:Deze 5 koppige band speelt een gevarieerde mix van downtempo\, triphop\, alternative rock en pop.  Veelal eigen werk met hier en daar een cover. Dit alles met als uitgangspunt het publiek te laten genieten.
URL:https://cafedehommel.nl/event/kajal/
END:VEVENT
END:VCALENDAR