BEGIN:VCALENDAR
VERSION:2.0
PRODID:-//Muziekcaf&eacute; de Hommel - ECPv6.8.2.1//NONSGML v1.0//EN
CALSCALE:GREGORIAN
METHOD:PUBLISH
X-ORIGINAL-URL:https://cafedehommel.nl
X-WR-CALDESC:Evenementen voor Muziekcaf&eacute; de Hommel
REFRESH-INTERVAL;VALUE=DURATION:PT1H
X-Robots-Tag:noindex
X-PUBLISHED-TTL:PT1H
BEGIN:VTIMEZONE
TZID:Europe/Amsterdam
BEGIN:DAYLIGHT
TZOFFSETFROM:+0100
TZOFFSETTO:+0200
TZNAME:CEST
DTSTART:20230326T010000
END:DAYLIGHT
BEGIN:STANDARD
TZOFFSETFROM:+0200
TZOFFSETTO:+0100
TZNAME:CET
DTSTART:20231029T010000
END:STANDARD
END:VTIMEZONE
BEGIN:VEVENT
DTSTART;TZID=Europe/Amsterdam:20230923T210000
DTEND;TZID=Europe/Amsterdam:20230923T210000
DTSTAMP:20260421T214213
CREATED:20230805T141646Z
LAST-MODIFIED:20230805T141646Z
UID:4664-1695502800-1695502800@cafedehommel.nl
SUMMARY:BREED
DESCRIPTION:Breed is een pop/rock coverband uit Vlaardingen. Zij spelen covers uit 80’s en 90’s met hier en daar een uitschieter naar de 70’s en zelfs de 60’s
URL:https://cafedehommel.nl/event/breed/
END:VEVENT
END:VCALENDAR