BEGIN:VCALENDAR
VERSION:2.0
PRODID:-//Muziekcaf&eacute; de Hommel - ECPv6.8.2.1//NONSGML v1.0//EN
CALSCALE:GREGORIAN
METHOD:PUBLISH
X-ORIGINAL-URL:https://cafedehommel.nl
X-WR-CALDESC:Evenementen voor Muziekcaf&eacute; de Hommel
REFRESH-INTERVAL;VALUE=DURATION:PT1H
X-Robots-Tag:noindex
X-PUBLISHED-TTL:PT1H
BEGIN:VTIMEZONE
TZID:Europe/Amsterdam
BEGIN:DAYLIGHT
TZOFFSETFROM:+0100
TZOFFSETTO:+0200
TZNAME:CEST
DTSTART:20230326T010000
END:DAYLIGHT
BEGIN:STANDARD
TZOFFSETFROM:+0200
TZOFFSETTO:+0100
TZNAME:CET
DTSTART:20231029T010000
END:STANDARD
END:VTIMEZONE
BEGIN:VEVENT
DTSTART;TZID=Europe/Amsterdam:20230916T210000
DTEND;TZID=Europe/Amsterdam:20230916T210000
DTSTAMP:20260421T231207
CREATED:20230830T200934Z
LAST-MODIFIED:20230830T223641Z
UID:4770-1694898000-1694898000@cafedehommel.nl
SUMMARY:AFTER EIGHT
DESCRIPTION:         AFTER EIGHT is een Indie poprock band uit Zuid Holland die eigen energieke en dansbare nummers speelt
URL:https://cafedehommel.nl/event/after-eight/
END:VEVENT
END:VCALENDAR